BEGIN:VCALENDAR
CALSCALE:GREGORIAN
VERSION:2.0
PRODID:-//Elixir ICalendar//Elixir ICalendar//EN
BEGIN:VEVENT
DTEND:20250929T050000Z
DTSTAMP:20260420T215614Z
DTSTART:20250929T040000Z
ORGANIZER:Kyle
STATUS:CONFIRMED
SUMMARY:Test event
UID:a697a861-e457-4b3f-b10c-09aae8e83fa7
URL:https://gatherngo.co/events/a697a861-e457-4b3f-b10c-09aae8e83fa7
END:VEVENT
BEGIN:VEVENT
DTEND:20250729T050000Z
DTSTAMP:20260420T215614Z
DTSTART:20250729T040000Z
ORGANIZER:Kyle
STATUS:TENTATIVE
SUMMARY:Test
UID:57f1d6d5-b743-4629-b9ed-50fd0812a88a
URL:https://gatherngo.co/events/57f1d6d5-b743-4629-b9ed-50fd0812a88a
END:VEVENT
END:VCALENDAR
